BEGIN:VCALENDAR
VERSION:2.0
PRODID:-//Freiwillige Feuerwehr Obernsees - ECPv6.15.20//NONSGML v1.0//EN
CALSCALE:GREGORIAN
METHOD:PUBLISH
X-WR-CALNAME:Freiwillige Feuerwehr Obernsees
X-ORIGINAL-URL:https://feuerwehr.obernsees.de
X-WR-CALDESC:Veranstaltungen für Freiwillige Feuerwehr Obernsees
REFRESH-INTERVAL;VALUE=DURATION:PT1H
X-Robots-Tag:noindex
X-PUBLISHED-TTL:PT1H
BEGIN:VTIMEZONE
TZID:Europe/Berlin
BEGIN:DAYLIGHT
TZOFFSETFROM:+0100
TZOFFSETTO:+0200
TZNAME:CEST
DTSTART:20250330T010000
END:DAYLIGHT
BEGIN:STANDARD
TZOFFSETFROM:+0200
TZOFFSETTO:+0100
TZNAME:CET
DTSTART:20251026T010000
END:STANDARD
BEGIN:DAYLIGHT
TZOFFSETFROM:+0100
TZOFFSETTO:+0200
TZNAME:CEST
DTSTART:20260329T010000
END:DAYLIGHT
BEGIN:STANDARD
TZOFFSETFROM:+0200
TZOFFSETTO:+0100
TZNAME:CET
DTSTART:20261025T010000
END:STANDARD
BEGIN:DAYLIGHT
TZOFFSETFROM:+0100
TZOFFSETTO:+0200
TZNAME:CEST
DTSTART:20270328T010000
END:DAYLIGHT
BEGIN:STANDARD
TZOFFSETFROM:+0200
TZOFFSETTO:+0100
TZNAME:CET
DTSTART:20271031T010000
END:STANDARD
END:VTIMEZONE
BEGIN:VEVENT
DTSTART;TZID=Europe/Berlin:20260501T090000
DTEND;TZID=Europe/Berlin:20260501T130000
DTSTAMP:20260422T133009
CREATED:20260416T220752Z
LAST-MODIFIED:20260418T151152Z
UID:53-1777626000-1777640400@feuerwehr.obernsees.de
SUMMARY:1. Mai Übung
DESCRIPTION:Große Gemeinschaftsübung mit allen aktiven Gruppen\, anschließend gemeinsames Mittagessen und gemütliches Beisammensein.
URL:https://feuerwehr.obernsees.de/termine/1-mai-uebung/
LOCATION:Feuerwehrhaus Obernsees\, Hintere Dorfstraße 10\, Obernsees\, 95490\, Germany
CATEGORIES:Interne Veranstaltungen
ATTACH;FMTTYPE=image/png:https://feuerwehr.obernsees.de/wp-content/uploads/2026/04/507F4D13-3681-46F2-B37F-0D30EC04529B.png
END:VEVENT
BEGIN:VEVENT
DTSTART;TZID=Europe/Berlin:20260508T200000
DTEND;TZID=Europe/Berlin:20260508T233000
DTSTAMP:20260422T133009
CREATED:20260418T150901Z
LAST-MODIFIED:20260418T151307Z
UID:124-1778270400-1778283000@feuerwehr.obernsees.de
SUMMARY:Festbesuch 150 Jahre FFW Neuhaus
DESCRIPTION:Um auch für unser Fest ordentlich Werbung zu machen\, möchten wir gerne auch die Vereine in der Umgebung besuchen. Entsprechend möchten wir das Fest der Feuerwehr Neuhaus neben dem Festumzug auch am Freitag besuchen. \nWeitere Details folgen.
URL:https://feuerwehr.obernsees.de/termine/festbesuch-150-jahre-ffw-neuhaus/
LOCATION:Freiwillige Feuerwehr Neuhaus\, Mühlengrundstraße 44\, Neuhaus\, 91347\, Germany
ATTACH;FMTTYPE=image/png:https://feuerwehr.obernsees.de/wp-content/uploads/2026/04/2F615F21-B113-444B-AAF4-BA6862D268DA.png
END:VEVENT
BEGIN:VEVENT
DTSTART;TZID=Europe/Berlin:20260510T130000
DTEND;TZID=Europe/Berlin:20260510T170000
DTSTAMP:20260422T133009
CREATED:20260416T221553Z
LAST-MODIFIED:20260418T151238Z
UID:55-1778418000-1778432400@feuerwehr.obernsees.de
SUMMARY:Festumzug 150 Jahre FFW Neuhaus
DESCRIPTION:Wir nehmen am Festumzug anlässlich des 150-jährigen Jubiläums der Feuerwehr Neuhaus teil. Gemeinsam präsentieren wir unsere Feuerwehr und feiern diesen besonderen Anlass mit. Die Aufstellung beginnt ab 13 Uhr. Wir freuen uns über zahlreiche Teilnahme.
URL:https://feuerwehr.obernsees.de/termine/festumzug-150-jahre-feuerwehr-neuhaus/
LOCATION:Freiwillige Feuerwehr Neuhaus\, Mühlengrundstraße 44\, Neuhaus\, 91347\, Germany
CATEGORIES:Öffentlich & Gemeinschaft
ATTACH;FMTTYPE=image/png:https://feuerwehr.obernsees.de/wp-content/uploads/2026/04/DFB4714E-F02C-4B3B-8218-3E77508D7623.png
END:VEVENT
BEGIN:VEVENT
DTSTART;TZID=Europe/Berlin:20260514T093000
DTEND;TZID=Europe/Berlin:20260514T190000
DTSTAMP:20260422T133009
CREATED:20260416T205750Z
LAST-MODIFIED:20260418T151049Z
UID:13-1778751000-1778785200@feuerwehr.obernsees.de
SUMMARY:Familienwanderung
DESCRIPTION:Familienwandertag der Feuerwehr: Gemeinsam wandern wir ca. 6 km\, genießen Mittags ein gemütliches Grillen und besuchen am Ende der Wanderung das 150-jährige Jubiläumsfest der Feuerwehr Truppach. \nBitte meldet euch zur besseren Planung vorab an.
URL:https://feuerwehr.obernsees.de/termine/familienwanderung/
LOCATION:Feuerwehrhaus Obernsees\, Hintere Dorfstraße 10\, Obernsees\, 95490\, Germany
CATEGORIES:Interne Veranstaltungen
ATTACH;FMTTYPE=image/png:https://feuerwehr.obernsees.de/wp-content/uploads/2026/04/15ADE7A7-5E6F-4971-9820-4DB5D9DD3ECC.png
END:VEVENT
BEGIN:VEVENT
DTSTART;TZID=Europe/Berlin:20260515T190000
DTEND;TZID=Europe/Berlin:20260515T230000
DTSTAMP:20260422T133009
CREATED:20260416T222102Z
LAST-MODIFIED:20260418T151027Z
UID:62-1778871600-1778886000@feuerwehr.obernsees.de
SUMMARY:Festkomers 150 Jahre FFW Truppach-Mengersdorf
DESCRIPTION:
URL:https://feuerwehr.obernsees.de/termine/festkomers-150-jahre-freiwillige-feuerwehr-truppach-mengersdorf/
LOCATION:Freiwillige Feuerwehr Truppach-Mengersdorf\, Am Feuerwehrhaus\, Truppach\, 95490\, Germany
ATTACH;FMTTYPE=image/png:https://feuerwehr.obernsees.de/wp-content/uploads/2026/04/DFB4714E-F02C-4B3B-8218-3E77508D7623.png
END:VEVENT
BEGIN:VEVENT
DTSTART;TZID=Europe/Berlin:20260627T200000
DTEND;TZID=Europe/Berlin:20260627T233000
DTSTAMP:20260422T133009
CREATED:20260418T152219Z
LAST-MODIFIED:20260418T152219Z
UID:133-1782590400-1782603000@feuerwehr.obernsees.de
SUMMARY:Hinterländer Kerwa
DESCRIPTION:Details folgen.
URL:https://feuerwehr.obernsees.de/termine/hinterlaender-kerwa/
ATTACH;FMTTYPE=image/png:https://feuerwehr.obernsees.de/wp-content/uploads/2026/04/2F615F21-B113-444B-AAF4-BA6862D268DA.png
END:VEVENT
BEGIN:VEVENT
DTSTART;TZID=Europe/Berlin:20260731T000000
DTEND;TZID=Europe/Berlin:20260802T235959
DTSTAMP:20260422T133009
CREATED:20260416T214551Z
LAST-MODIFIED:20260416T214551Z
UID:29-1785456000-1785715199@feuerwehr.obernsees.de
SUMMARY:155 Jahre Freiwillige Feuerwehr Obernsees
DESCRIPTION:Am Freitag startet das Jubiläumsfest mit einer Party und Liveband ab 21:00 Uhr\, begleitet von besonderen Getränkespecials. \nAm Samstag beginnt der Tag um 10:00 Uhr mit der Kinderflamme. Am Nachmittag gibt es Kaffee und Kuchen sowie ein Puppentheater für Kinder. Abends findet ab 20:30 Uhr die große Blaulichtparty mit DJ und Specials statt\, bei der Besucher in Feuerwehr- oder Einsatzkleidung vergünstigten Eintritt erhalten. \nAm Sonntag startet das Programm um 13:30 Uhr mit einer Andacht und anschließendem Festkommers mit Ehrungen. Danach folgt der Festbetrieb mit musikalischer Begleitung\, Kaffee und Kuchen sowie einem Kinderprogramm. Den Abschluss bildet um 19:00 Uhr die Verlosung der Bierlose. \n👉 Das Jubiläumsfest bietet drei Tage voller Unterhaltung\, Gemeinschaft und echter Feuerwehr-Atmosphäre für die ganze Familie. \nFlyerFFW2026_final
URL:https://feuerwehr.obernsees.de/termine/155-jahre-freiwillige-feuerwehr-obernsees/
LOCATION:Festplatz Obernsees\, Am Festplatz 2\, Obernsees\, 95490\, Germany
ATTACH;FMTTYPE=image/png:https://feuerwehr.obernsees.de/wp-content/uploads/2026/04/ChatGPT-Image-16.-Apr.-2026-23_45_27.png
END:VEVENT
BEGIN:VEVENT
DTSTART;TZID=Europe/Berlin:20260809T100000
DTEND;TZID=Europe/Berlin:20260809T120000
DTSTAMP:20260422T133009
CREATED:20260418T152028Z
LAST-MODIFIED:20260418T152028Z
UID:131-1786269600-1786276800@feuerwehr.obernsees.de
SUMMARY:Frühschoppen Zeltkerwa Frankenhaag
DESCRIPTION:Details folgen.
URL:https://feuerwehr.obernsees.de/termine/fruehschoppen-zeltkerwa-frankenhaag/
ATTACH;FMTTYPE=image/png:https://feuerwehr.obernsees.de/wp-content/uploads/2026/04/2F615F21-B113-444B-AAF4-BA6862D268DA.png
END:VEVENT
END:VCALENDAR